BEGIN:VCALENDAR
PRODID:-//kirchenweb.ch gmbh//veranstaltungsausgabe v2.0//DE
VERSION:2.0
METHOD:PUBLISH
BEGIN:VEVENT
DTSTART:20260419T080000Z
DTEND:20260419T090000Z
LOCATION:Kirche\, Schönenbergstr. 9\, 8820 Wädenswil
TRANSP:OPAQUE
SEQUENCE:0
UID:43996-veranstaltung@kirche-waedenswil.ch
DTSTAMP:20260409T130949Z
DESCRIPTION:Jesus zu Besuch bei Maria und Marta\n\nMaria\, die zuhört
 \nMarta\, die fleissig ist\, aber davon genervt \n\n\n\nVom sich Sorgen
  machen ... \nWeg vom hoffentlich nicht - hoffentlich nicht - hoffentlich
  nicht \nhin zum: Dann werde ich ... \n\n\n\n\n\n\nDer Betrag kommt
  derjenigen Organisation zugute\, welche im Gottesdienst erwähnt wurde.
  Spenden während der Woche werden dem Empfänger des letzten
  Gottesdienstes zugewiesen.\n\nEs ist nicht ersichtlich\, von wem die
  Spende überwiesen wurde.\n\nKontakt: Pfr. Christian Scharpf\, 078 622 00
  28\n\nWeitere Infos: https://www.kirche-waedenswil.ch/veranstaltung/43996
SUMMARY:Gottesdienst
PRIORITY:5
X-MICROSOFT-CDO-IMPORTANCE:1
CLASS:PUBLIC
END:VEVENT
END:VCALENDAR
