BEGIN:VCALENDAR
PRODID:-//kirchenweb.ch gmbh//veranstaltungsausgabe v2.0//DE
VERSION:2.0
METHOD:PUBLISH
BEGIN:VEVENT
DTSTART:20260412T080000Z
DTEND:20260412T090000Z
LOCATION:Kirche\, Schönenbergstr. 9\, 8820 Wädenswil
TRANSP:OPAQUE
SEQUENCE:0
UID:43995-veranstaltung@kirche-waedenswil.ch
DTSTAMP:20260409T090127Z
DESCRIPTION:Wahltag - Jazz-Gottesdienst - Apéro an der Wunderbar ... und
  ein Thema rund um das Leben\, wo Menschen - auch im Namen des Glaubens -
  bevorzugt oder benachteiligt werden\, wo sie in die Wüste geschickt
  werden und schier verzweifeln\, wo sie dennoch gestärkt werden und
  wieder eine Hoffnung finden. Was der gute Stammvater des Glaubens\,
  Abraham\, zusammen mit seiner vermeintlich so heiligen Sarah im Namen
  Gottes da abliefert\, lässt einem die Haare zu Berge stehen. Manche
  Menschen erleben heute - ob hier bei uns oder irgendwo auf der Welt -
  Ähnliches. Ungerechtigkeit sollten wir nie glattbügeln - und dennoch
  kann es geschehen\, dass daraus starke Menschen und Völker wachsen.\n
 \n***\n\nMonika Tiken und Simon Bächinger werden diesen Gottesdienst
  musikalisch mit ruhigen\, meditativen Jazz-Klängen mit bisweilen
  überraschenden Harmonien gestalten. Für die Kenner: All Blues (Davis
  Miles)\, So what (Davis Miles)\, Watermelon Man (Herbie Hancock)\, Softly
  as in a morning sunrise (John Coltrane).\n\n***\n\nWenn sie die Kollekte
  für https://www.mahasoa.org/wer-wir-sind/ unterstützen möchten\, so
  können Sie das auch via Twint tun:\n\n\n\n\nKontakt: Pfr. Frank
  Lehmann\, 078 626 00 18\n\nWeitere Infos:
  https://www.kirche-waedenswil.ch/veranstaltung/43995
SUMMARY:Jazz Gottesdienst
PRIORITY:5
X-MICROSOFT-CDO-IMPORTANCE:1
CLASS:PUBLIC
END:VEVENT
END:VCALENDAR
