BEGIN:VCALENDAR
PRODID:-//kirchenweb.ch gmbh//veranstaltungsausgabe v2.0//DE
VERSION:2.0
METHOD:PUBLISH
BEGIN:VEVENT
DTSTART:20251209T180000Z
DTEND:20251209T200000Z
LOCATION:Kirchgemeindehaus Rosenmatt\, Gessnerweg 5\, 8820 Wädenswil
TRANSP:OPAQUE
SEQUENCE:0
UID:43961-veranstaltung@kirche-waedenswil.ch
DTSTAMP:20250204T144118Z
DESCRIPTION:Lesezirkel für literarisch und theologisch Interessierte\n
 \nDaten für 2025: \n7.1.\,25.2.\, 8.4.\, 20.5.\, 1.7.\, 19.8.\, 30.9.\,
  4.11.\, 9.12.\n\n\nAnmeldung bitte an Pfrn. Undine Gellner\n044 680 41 48
  oder undine.gellner@kirche-waedenswil.ch\n\n \nManchmal mag man ein Buch
  nicht einfach allein lesen\, sondern würde gerne noch mit anderen
  darüber reden. \nManchmal finden sich in Romanen Denkanstösse\, die
  auch für Glaubensfragen interessant sind.\nUnd Interessierte können
  sich gegenseitig Lesetipps geben und alle können neue literarische
  Welten entdecken. \n\nIn dieser Gruppe soll dies alles möglich sein.
  Treffen sind ca. alle sechs Wochen geplant. \n\n\nKontakt: Pfrn. Undine
  Gellner\, 044 680 41 48\n\nWeitere Infos:
  https://www.kirche-waedenswil.ch/veranstaltung/43961
SUMMARY:Lesezirkel
PRIORITY:5
X-MICROSOFT-CDO-IMPORTANCE:1
CLASS:PUBLIC
END:VEVENT
END:VCALENDAR
