BEGIN:VCALENDAR
PRODID:-//kirchenweb.ch gmbh//veranstaltungsausgabe v2.0//DE
VERSION:2.0
METHOD:PUBLISH
BEGIN:VEVENT
DTSTART:20251202T130000Z
DTEND:20251202T170000Z
LOCATION:Etzelzentrum\, Etzelstr. 3\, 8820 Wädenswil
TRANSP:OPAQUE
SEQUENCE:0
UID:43896-veranstaltung@kirche-waedenswil.ch
DTSTAMP:20251201T080025Z
DESCRIPTION:Ein ökumenisches Angebot mit Esther Burger und Edith Bossert
 \n\nDie nächste Weihnacht kommt bestimmt! \nMit diesem Workshop stimmen
  Esther Burger und Edith Bossert in die diesjährige Weihnachtszeit ein\,
  denn der feinste Duft ist doch der Weihnachtsguetzli - Duft. \n\nBei
  diesem Workshop steht die Verarbeitung des von Esther und Edith
  vorbereiteten Teiges und die Vollendung der Guetzli im Vordergrund. Am 5.
  Dezember werden alle Guetzli der beiden Backnachmittage unter den
  Teilnehmenden verteilt.\n\nDer Guetzli – Workshop wird zwei Mal
  durchgeführt. Beim dritten Mal werden die gemachten Guetzli unter den
  Teilnehmenden verteilt\, inkl. feinen Advent - Zvieri.  \n\nWorkshop
  2:		2.12.25\, 14.00 – 17.00 \nAnmeldeschluss:	27.11.25\n\nTeilen mit
  Zvieri:	5.12.25\, 14.00 – 16.00	 \n\nOrt: 	Gastroküche - Etzelzentrum
  	\nTeilnehmerzahl:	begrenzt\nUnkostenbeitrag:	Pro Workshop\, Fr. 10.-/
  Perso\n\n\nKontakt: Petra Fischer\, 044 783 00 52\n\nWeitere Infos:
  https://www.kirche-waedenswil.ch/veranstaltung/43896
SUMMARY:2. Workshop - Weihnachtsguetzli
PRIORITY:5
X-MICROSOFT-CDO-IMPORTANCE:1
CLASS:PUBLIC
END:VEVENT
END:VCALENDAR
