BEGIN:VCALENDAR
PRODID:-//kirchenweb.ch gmbh//veranstaltungsausgabe v2.0//DE
VERSION:2.0
METHOD:PUBLISH
BEGIN:VEVENT
DTSTART:20260618T040000Z
DTEND:20260618T053000Z
LOCATION:Kirchgemeindehaus Rosenmatt\, Gessnerweg 5\, 8820 Wädenswil
TRANSP:OPAQUE
SEQUENCE:0
UID:43566-veranstaltung@kirche-waedenswil.ch
DTSTAMP:20241217T093300Z
DESCRIPTION:Kontakt: Sigristen\, Erika u. Walter Rusterholz\, 044 783 00
  53\n\nWeitere Infos: https://www.kirche-waedenswil.ch/veranstaltung/43566
SUMMARY:Reinigung
PRIORITY:5
X-MICROSOFT-CDO-IMPORTANCE:1
CLASS:PUBLIC
END:VEVENT
END:VCALENDAR
