BEGIN:VCALENDAR
PRODID:-//kirchenweb.ch gmbh//veranstaltungsausgabe v2.0//DE
VERSION:2.0
METHOD:PUBLISH
BEGIN:VEVENT
DTSTART:20251126T130000Z
DTEND:20251126T151500Z
LOCATION:Kirchgemeindehaus Rosenmatt\, Gessnerweg 5\, 8820 Wädenswil
TRANSP:OPAQUE
SEQUENCE:0
UID:43455-veranstaltung@kirche-waedenswil.ch
DTSTAMP:20250619T193757Z
DESCRIPTION:Kontakt: Pfrn. Salome Probst\, 079 324 97 79\n\nWeitere Infos:
  https://www.kirche-waedenswil.ch/veranstaltung/43455
SUMMARY:JUKI - Probe Weihnachtsspiel
PRIORITY:5
X-MICROSOFT-CDO-IMPORTANCE:1
CLASS:PUBLIC
END:VEVENT
END:VCALENDAR
