BEGIN:VCALENDAR
PRODID:-//kirchenweb.ch gmbh//veranstaltungsausgabe v2.0//DE
VERSION:2.0
METHOD:PUBLISH
BEGIN:VEVENT
DTSTART:20251214T093000Z
DTEND:20251214T101500Z
LOCATION:Kirchenpavillon Au\, General-Werdmüller-Strasse 20\, 8804 Au
TRANSP:OPAQUE
SEQUENCE:0
UID:43235-veranstaltung@kirche-waedenswil.ch
DTSTAMP:20241105T140543Z
DESCRIPTION:Vor dem Gottesdienst sind Sie herzlich zum Kaffee eingeladen.
 \n\nKontakt: Gabriela Monigatti\, 044 781 40 12\n\nWeitere Infos:
  https://www.kirche-waedenswil.ch/veranstaltung/43235
SUMMARY:Sunntigskafi
PRIORITY:5
X-MICROSOFT-CDO-IMPORTANCE:1
CLASS:PUBLIC
END:VEVENT
END:VCALENDAR
