BEGIN:VCALENDAR
PRODID:-//kirchenweb.ch gmbh//veranstaltungsausgabe v2.0//DE
VERSION:2.0
METHOD:PUBLISH
BEGIN:VEVENT
DTSTART:20251117T180000Z
DTEND:20251117T190000Z
LOCATION:Kirchgemeindehaus Rosenmatt\, Gessnerweg 5\, 8820 Wädenswil
TRANSP:OPAQUE
SEQUENCE:0
UID:41993-veranstaltung@kirche-waedenswil.ch
DTSTAMP:20250107T124025Z
DESCRIPTION:Körpereinstimmung - Sitzen in der Stille - im Kreis -
  meditatives Gehen - Gebet und Segen.\n\nZur Mitte kommen - den Tag ziehen
  lassen - zusammen schweigen - Geduld haben - das innere Licht empfangen.
 \n\nKontakt: Pfr. Erich Bosshard-Nepustil\, 079 530 40 24\n\nWeitere
  Infos: https://www.kirche-waedenswil.ch/veranstaltung/41993
SUMMARY:Meditation am Montag
PRIORITY:5
X-MICROSOFT-CDO-IMPORTANCE:1
CLASS:PUBLIC
END:VEVENT
END:VCALENDAR
