BEGIN:VCALENDAR
PRODID:-//kirchenweb.ch gmbh//veranstaltungsausgabe v2.0//DE
VERSION:2.0
METHOD:PUBLISH
BEGIN:VEVENT
DTSTART:20240819T183000Z
DTEND:20240819T200000Z
LOCATION:Kirchgemeindehaus Rosenmatt\, Gessnerweg 5\, 8820 Wädenswil
TRANSP:OPAQUE
SEQUENCE:0
UID:41914-veranstaltung@kirche-waedenswil.ch
DTSTAMP:20240815T100011Z
DESCRIPTION:Kontakt: Elroy Accola\, 044 783 00 53\n\nWeitere Infos:
  https://www.kirche-waedenswil.ch/veranstaltung/41914
SUMMARY:Saal vorbereiten für Dienstag
PRIORITY:5
X-MICROSOFT-CDO-IMPORTANCE:1
CLASS:PUBLIC
END:VEVENT
END:VCALENDAR
