BEGIN:VCALENDAR
PRODID:-//kirchenweb.ch gmbh//veranstaltungsausgabe v2.0//DE
VERSION:2.0
METHOD:PUBLISH
BEGIN:VEVENT
DTSTART:20240730T183000Z
DTEND:20240730T215900Z
LOCATION:Rosenmattpark \, \,
TRANSP:OPAQUE
SEQUENCE:0
UID:41810-veranstaltung@kirche-waedenswil.ch
DTSTAMP:20240730T105802Z
DESCRIPTION:Die im reformiert.lokal offerierten 50 Tickets sind bereits
  vergeben. Die Nachfrage war sehr gross. Danke für das Verständnis.\nEs
  besteht natürlich die Möglichkeit\, am 30.7.24 den Filmabend
  „normal“ zu besuchen mit Ticketkauf an der Abendkasse und Plätzen
  unter dem freien Himmel. \n\nKontakt: Markus Alder\, 044 783 00 50\n
 \nWeitere Infos: https://www.kirche-waedenswil.ch/veranstaltung/41810
SUMMARY:Gesponserter Filmabend «The Monk And The Gun»
PRIORITY:5
X-MICROSOFT-CDO-IMPORTANCE:1
CLASS:PUBLIC
END:VEVENT
END:VCALENDAR
