BEGIN:VCALENDAR
PRODID:-//kirchenweb.ch gmbh//veranstaltungsausgabe v2.0//DE
VERSION:2.0
METHOD:PUBLISH
BEGIN:VEVENT
DTSTART:20240829T160000Z
DTEND:20240829T190000Z
LOCATION:Draussen\, \,
TRANSP:OPAQUE
SEQUENCE:0
UID:41772-veranstaltung@kirche-waedenswil.ch
DTSTAMP:20240713T080040Z
DESCRIPTION:Die Tage werden wieder etwas kürzer: Wir starten etwas
  früher um 18 Uhr:\nEine gemütliche E-Bike-Runde (braucht kein
  Mountain-Bike zu sein) über die Höhen rund um Wädenswil. Dann ein
  gemütlicher Stop mit Zeit zum Trinken und Plaudern. Wer kommt mit? Bitte
  unten im Formular anmelden\, danke!\n\nDas Programm wird relativ
  kurzfristig auf Grund der Wettervorhersage und der angemeldeten
  Teilnehmer angepasst. Allenfalls machen wir uns auch mal zu Fuss auf den
  Weg.\nÜbrigens: Die Angabe 'für Männer zwischen 55 und 75' ist als
  'ungefähres Richtmass' zu verstehen. Natürlich dürfen auch fitte
  ältere und geduldige jüngere Männer mitkommen!\n\nKontakt: Pfr. Frank
  Lehmann\, 044 780 33 55\n\nWeitere Infos:
  https://www.kirche-waedenswil.ch/veranstaltung/41772
SUMMARY:Männerschweiss - E-Bike-Genuss-Fährtli mit gemütlichem Finale
PRIORITY:5
X-MICROSOFT-CDO-IMPORTANCE:1
CLASS:PUBLIC
END:VEVENT
END:VCALENDAR
