BEGIN:VCALENDAR
PRODID:-//kirchenweb.ch gmbh//veranstaltungsausgabe v2.0//DE
VERSION:2.0
METHOD:PUBLISH
BEGIN:VEVENT
DTSTART:20240813T061000Z
DTEND:20240813T110000Z
LOCATION:Unterwegs\, \,
TRANSP:OPAQUE
SEQUENCE:0
UID:41771-veranstaltung@kirche-waedenswil.ch
DTSTAMP:20240926T213543Z
DESCRIPTION:Wenn das Wetter mitspielt\, starten wir um 0810 mit dem Zug ab
  Wädenswil nach Schindellegi. Dann führt uns unser Weg durch schöne
  Wälder via Chlausechappeli auf den Gottschälli. Von dort  geniessen wir
  die Abfahrt in Richtung Menzingen und gelangen schliesslich an die Sihl.
  Via Spreuermühle und Rechberg geht's dann wieder heim.\n\nVerpflegung
  unterwegs. Endzeitangabe ist so ungefähr. \n\nTechnisch nur auf sehr
  kurzen Passagen etwas anspruchsvoll\, aber da kann man gut auch mal
  schieben\, kein Problem.\n\nKontakt: Pfr. Frank Lehmann\, 044 780 33 55\n
 \nWeitere Infos: https://www.kirche-waedenswil.ch/veranstaltung/41771
SUMMARY:Männerschweiss - E-Bike Gottschälli-Menzingen-Sihl
PRIORITY:5
X-MICROSOFT-CDO-IMPORTANCE:1
CLASS:PUBLIC
END:VEVENT
END:VCALENDAR
