BEGIN:VCALENDAR
PRODID:-//kirchenweb.ch gmbh//veranstaltungsausgabe v2.0//DE
VERSION:2.0
METHOD:PUBLISH
BEGIN:VEVENT
DTSTART:20240725T060000Z
DTEND:20240725T110000Z
LOCATION:Draussen\, \,
TRANSP:OPAQUE
SEQUENCE:0
UID:41770-veranstaltung@kirche-waedenswil.ch
DTSTAMP:20240926T202539Z
DESCRIPTION:Weil es im Mai so schön war\, starten wir nochmals zur
  grossen Pfannenstil-Überquerung:\nUm 0800 starten wir mit dem Zug via
  Pfäffikon nach Rapperswil. Dann geht es durch sehr abwechslungsreiche
  und wunderschöne Gegenden via Lützelsee\, Hochwacht\, Küsnachtertobel
  und schliesslich Wehrenbachtobel direkt zum Balgrist und zuletzt ans
  Bellevue. Je nach Lust und Temperatur gönnt man sich dann ein Glace\,
  fährt mit Schiff\, Zug und Velo heim.\n\nVerpflegung unterwegs.
  Endzeitangabe ist so ungefähr. \n\nEine Tour\, die sich immer wieder
  lohnt - technisch nur auf sehr kurzen Passagen etwas anspruchsvoll\, aber
  da kann man gut auch mal schieben\, kein Problem.\n\nKontakt: Pfr. Frank
  Lehmann\, 044 780 33 55\n\nWeitere Infos:
  https://www.kirche-waedenswil.ch/veranstaltung/41770
SUMMARY:Männerschweiss - E-Bike ennet em See: Pfannenstiel-Tour
PRIORITY:5
X-MICROSOFT-CDO-IMPORTANCE:1
CLASS:PUBLIC
END:VEVENT
END:VCALENDAR
