BEGIN:VCALENDAR
PRODID:-//kirchenweb.ch gmbh//veranstaltungsausgabe v2.0//DE
VERSION:2.0
METHOD:PUBLISH
BEGIN:VEVENT
DTSTART:20240821T171500Z
DTEND:20240821T200000Z
LOCATION:Draussen\, \,
TRANSP:OPAQUE
SEQUENCE:0
UID:41766-veranstaltung@kirche-waedenswil.ch
DTSTAMP:20240713T075935Z
DESCRIPTION:Für heute ist's mal etwas gemütlicher: Das SchlossCinema
  unter der Leitung von Sabrina Lejeune bietet hie und da 'Männerabende'
  an:\nAb 1915 gibt's Grill\, Getränke und Chips - alles im Pauschalpreis
  von 28 CHF inbegriffen - um 2000 startet der Film. Diesmal "The Big
  Lebowski" (Ed). Ich freue mich. Wer kommt mit?\n\nMehr Infos zu diesem
  Komödien-Klassiker\, der doch Vieles über uns Männer erzählt:
  https://schlosscinema.ch/event/maennerabendthebiglebowski\n\nAnmeldung am
  besten grad hier unten - dann reserviere ich für uns als Gruppe. Zahlen
  tut dann jeder vor Ort selber.\n\nKontakt: Pfr. Frank Lehmann\, 044 780
  33 55\n\nWeitere Infos:
  https://www.kirche-waedenswil.ch/veranstaltung/41766
SUMMARY:Männerschweiss - Männer-Grill-Kino im SchlossCinema: Big
  Lebowski
PRIORITY:5
X-MICROSOFT-CDO-IMPORTANCE:1
CLASS:PUBLIC
END:VEVENT
END:VCALENDAR
