BEGIN:VCALENDAR
PRODID:-//kirchenweb.ch gmbh//veranstaltungsausgabe v2.0//DE
VERSION:2.0
METHOD:PUBLISH
BEGIN:VEVENT
DTSTART:20251212T123000Z
DTEND:20251212T153000Z
LOCATION:Kirchgemeindehaus Rosenmatt\, Gessnerweg 5\, 8820 Wädenswil
TRANSP:OPAQUE
SEQUENCE:0
UID:41583-veranstaltung@kirche-waedenswil.ch
DTSTAMP:20250701T065001Z
DESCRIPTION:Zwischen Kerzenglanz und Tannenduft – Advent neu erleben\n
 \nRosmarie Stutz\, früher Marketing- und Vertriebsleiterin im
  IT-Bereich\, heute grosses ehrenamtliches Engagement mit viel Herz und
  Freude in der Seniorenarbeit. \n\nDer ökumenische FraueZvieri startet um
  13.30. Ende der Veranstaltung ist ca. 16.30 Uhr. \nDie Veranstaltung
  kostet Fr. 12.- mit oder ohne Zvieri.\n\nKontakt: Petra Fischer\, 044 783
  00 52\n\nWeitere Infos:
  https://www.kirche-waedenswil.ch/veranstaltung/41583
SUMMARY:Ökumenischer FraueZmorge "heute Zvieri"
PRIORITY:5
X-MICROSOFT-CDO-IMPORTANCE:1
CLASS:PUBLIC
END:VEVENT
END:VCALENDAR
