BEGIN:VCALENDAR
PRODID:-//kirchenweb.ch gmbh//veranstaltungsausgabe v2.0//DE
VERSION:2.0
METHOD:PUBLISH
BEGIN:VEVENT
DTSTART:20240822T090000Z
DTEND:20240822T113000Z
LOCATION:Kirchgemeindehaus Rosenmatt\, Gessnerweg 5\, 8820 Wädenswil
TRANSP:OPAQUE
SEQUENCE:0
UID:41445-veranstaltung@kirche-waedenswil.ch
DTSTAMP:20240820T090843Z
DESCRIPTION:Kontakt: Petra Fischer\, 044 783 00 52\n\nWeitere Infos:
  https://www.kirche-waedenswil.ch/veranstaltung/41445
SUMMARY:Fototreff - Rückblick Genussferien Interlaken 60+
PRIORITY:5
X-MICROSOFT-CDO-IMPORTANCE:1
CLASS:PUBLIC
END:VEVENT
END:VCALENDAR
