BEGIN:VCALENDAR
PRODID:-//kirchenweb.ch gmbh//veranstaltungsausgabe v2.0//DE
VERSION:2.0
METHOD:PUBLISH
BEGIN:VEVENT
DTSTART:20240923T170000Z
DTEND:20240923T180000Z
LOCATION:Kirche\, Schönenbergstr. 9\, 8820 Wädenswil
TRANSP:OPAQUE
SEQUENCE:0
UID:41313-veranstaltung@kirche-waedenswil.ch
DTSTAMP:20240529T091126Z
DESCRIPTION:Körpereinstimmung - Sitzen in der Stille - im Kreis -
  meditatives Gehen - Gebet und Segen.\n\nZur Mitte kommen - den Tag ziehen
  lassen - zusammen schweigen - Geduld haben - das innere Licht empfangen.
 \n\nKontakt: Pfr. Matthias Stauffer\, 076 318 48 96\n\nWeitere Infos:
  https://www.kirche-waedenswil.ch/veranstaltung/41313
SUMMARY:Meditation am Montag
PRIORITY:5
X-MICROSOFT-CDO-IMPORTANCE:1
CLASS:PUBLIC
END:VEVENT
END:VCALENDAR
