BEGIN:VCALENDAR
PRODID:-//kirchenweb.ch gmbh//veranstaltungsausgabe v2.0//DE
VERSION:2.0
METHOD:PUBLISH
BEGIN:VEVENT
DTSTART:20240917T174500Z
DTEND:20240917T184500Z
LOCATION:Kirche\, Schönenbergstr. 9\, 8820 Wädenswil
TRANSP:OPAQUE
SEQUENCE:0
UID:41164-veranstaltung@kirche-waedenswil.ch
DTSTAMP:20240829T161708Z
DESCRIPTION:Singen & Klingen bei Kerzenlicht - Einfache Andacht mit
  Taizéliedern\n\n\nWir feiern in der Kirche eine schlichte Abendandacht
  und singen einfache\, meditative Lieder. Die meisten Lieder entstammen
  der ökumenischen Gemeinschaft von Taizé im Burgund. Die Kirche wird von
  vielen Kerzen erhellt und ist in ein stimmungsvolles Licht getaucht.\n
 \nZum Durchatmen\, zum Hinhören\, zum Klingen\, zum Singen.\nSeien Sie
  herzlich willkommen.\n\nKontakt: Mirjam Wagner\, 076 477 10 81\nMonika
  Tiken\, 079 614 11 78‬\n\nWeitere Infos:
  https://www.kirche-waedenswil.ch/veranstaltung/41164
SUMMARY:Singen & Klingen bei Kerzenlicht
PRIORITY:5
X-MICROSOFT-CDO-IMPORTANCE:1
CLASS:PUBLIC
END:VEVENT
END:VCALENDAR
