BEGIN:VCALENDAR
PRODID:-//kirchenweb.ch gmbh//veranstaltungsausgabe v2.0//DE
VERSION:2.0
METHOD:PUBLISH
BEGIN:VEVENT
DTSTART:20251116T160000Z
DTEND:20251116T180000Z
LOCATION:Kirche\, Schönenbergstr. 9\, 8820 Wädenswil
TRANSP:OPAQUE
SEQUENCE:0
UID:41142-veranstaltung@kirche-waedenswil.ch
DTSTAMP:20251114T161232Z
DESCRIPTION:Kontakt: sigrist@kirche-waedenswil.ch\n\nWeitere Infos:
  https://www.kirche-waedenswil.ch/veranstaltung/41142
SUMMARY:Gastkonzert BrassBand Posaunenchor Wädenswil
PRIORITY:5
X-MICROSOFT-CDO-IMPORTANCE:1
CLASS:PUBLIC
END:VEVENT
END:VCALENDAR
