BEGIN:VCALENDAR
PRODID:-//kirchenweb.ch gmbh//veranstaltungsausgabe v2.0//DE
VERSION:2.0
METHOD:PUBLISH
BEGIN:VEVENT
DTSTART:20251213T183000Z
DTEND:20251213T200000Z
LOCATION:Kirche\, Schönenbergstr. 9\, 8820 Wädenswil
TRANSP:OPAQUE
SEQUENCE:0
UID:41139-veranstaltung@kirche-waedenswil.ch
DTSTAMP:20251212T122718Z
DESCRIPTION:Kontakt: Gospelchor Wädenswil\n\nWeitere Infos:
  https://www.kirche-waedenswil.ch/veranstaltung/41139
SUMMARY:Gastkonzert Gospelchor Wädenswil
PRIORITY:5
X-MICROSOFT-CDO-IMPORTANCE:1
CLASS:PUBLIC
END:VEVENT
END:VCALENDAR
