BEGIN:VCALENDAR
PRODID:-//kirchenweb.ch gmbh//veranstaltungsausgabe v2.0//DE
VERSION:2.0
METHOD:PUBLISH
BEGIN:VEVENT
DTSTART:20240827T130000Z
DTEND:20240827T153000Z
LOCATION:Rosenmattpark\, Gessnerweg 5\, 8820 Wädenswil
TRANSP:OPAQUE
SEQUENCE:0
UID:41050-veranstaltung@kirche-waedenswil.ch
DTSTAMP:20240421T170748Z
DESCRIPTION:Kontakt: Simone Hauser\, 044 783 00 55\n\nRebekka Gantenbein\,
  076 508 86 47‬\n\nWeitere Infos:
  https://www.kirche-waedenswil.ch/veranstaltung/41050
SUMMARY:WunderBar im Park
PRIORITY:5
X-MICROSOFT-CDO-IMPORTANCE:1
CLASS:PUBLIC
END:VEVENT
END:VCALENDAR
