BEGIN:VCALENDAR
PRODID:-//kirchenweb.ch gmbh//veranstaltungsausgabe v2.0//DE
VERSION:2.0
METHOD:PUBLISH
BEGIN:VEVENT
DTSTART:20240923T081500Z
DTEND:20240923T090000Z
LOCATION:Kirchenpavillon Au\, General-Werdmüller-Strasse 20\, 8804 Au
TRANSP:OPAQUE
SEQUENCE:0
UID:40979-veranstaltung@kirche-waedenswil.ch
DTSTAMP:20240521T092120Z
DESCRIPTION:https://www.kirche-waedenswil.ch/kindersingen gehts zur
  Anmeldung\n\nKontakt: Rebekka Gantenbein\, 076 508 86 47‬\n\nWeitere
  Infos: https://www.kirche-waedenswil.ch/veranstaltung/40979
SUMMARY:Singe mit de Chlinschte Au Gruppe 2
PRIORITY:5
X-MICROSOFT-CDO-IMPORTANCE:1
CLASS:PUBLIC
END:VEVENT
END:VCALENDAR
