BEGIN:VCALENDAR
PRODID:-//kirchenweb.ch gmbh//veranstaltungsausgabe v2.0//DE
VERSION:2.0
METHOD:PUBLISH
BEGIN:VEVENT
DTSTART:20240425T143000Z
DTEND:20240425T160000Z
LOCATION:Kirchgemeindehaus Rosenmatt\, Gessnerweg 5\, 8820 Wädenswil
TRANSP:OPAQUE
SEQUENCE:0
UID:40820-veranstaltung@kirche-waedenswil.ch
DTSTAMP:20240403T070325Z
DESCRIPTION:Das Thema wird zur Zeit sehr breit diskutiert\, ohne
  unmittelbare Planung einer konkreten Veranstaltung. Das Ziel wäre\, das
  Thema als Teil des Lebens zu verstehen und in unserer Kirchgemeinde zu
  normalisieren. Dadurch soll ein Boden entstehen\, einerseits zur eigenen
  Trauer zu stehen und andererseits sie zu teilen und einander beizustehen.
 \nZur Zeit in der Gruppe aktiv sind Christine Brombach\, Heidi Hug\, Petra
  Fischer und Matthias Stauffer.\nFalls Sie sich einbringen möchten\,
  kontaktieren Sie uns!\n\nKontakt: Pfr. Matthias Stauffer\, 076 318 48 96
 \n\nPetra Fischer\, 044 783 00 52\n\nWeitere Infos:
  https://www.kirche-waedenswil.ch/veranstaltung/40820
SUMMARY:Sitzung Spurgruppe Trauer
PRIORITY:5
X-MICROSOFT-CDO-IMPORTANCE:1
CLASS:PUBLIC
END:VEVENT
END:VCALENDAR
