BEGIN:VCALENDAR
PRODID:-//kirchenweb.ch gmbh//veranstaltungsausgabe v2.0//DE
VERSION:2.0
METHOD:PUBLISH
BEGIN:VEVENT
DTSTART:20240916T123000Z
DTEND:20240916T143000Z
LOCATION:Kirchgemeindehaus Rosenmatt\, Gessnerweg 5\, 8820 Wädenswil
TRANSP:OPAQUE
SEQUENCE:0
UID:40714-veranstaltung@kirche-waedenswil.ch
DTSTAMP:20240711T144219Z
DESCRIPTION:Strickkurs \, Leitung Ursula Tolle\n\nKontakt: Margrith Jost\,
  044 783 00 54\n\nWeitere Infos:
  https://www.kirche-waedenswil.ch/veranstaltung/40714
SUMMARY:Kreativnachmittag: Stricken
PRIORITY:5
X-MICROSOFT-CDO-IMPORTANCE:1
CLASS:PUBLIC
END:VEVENT
END:VCALENDAR
