BEGIN:VCALENDAR
PRODID:-//kirchenweb.ch gmbh//veranstaltungsausgabe v2.0//DE
VERSION:2.0
METHOD:PUBLISH
BEGIN:VEVENT
DTSTART:20240504T090000Z
DTEND:20240504T093000Z
LOCATION:Kirche\, Schönenbergstr. 9\, 8820 Wädenswil
TRANSP:OPAQUE
SEQUENCE:0
UID:40592-veranstaltung@kirche-waedenswil.ch
DTSTAMP:20240413T160240Z
DESCRIPTION:"Einmal im Monat erklingt die Orgel während des Wochenmarktes
 \nim Rahmen einer 30-minütigen Matinee. Abseits vom Trubel besteht die
  Möglichkeit\, in die farbenreiche Klangwelt der Späth-Orgel mit ihren
  41 Registern\nund 2966 Pfeifen einzutauchen". \n\nVater unser im
  Himmelreich \nmit Werken von D. Buxtehude\, G. Böhm und Felix
  Mendelssohn Bartholdy\n\nEintritt frei - Kollekte \nan der Orgel : Mirjam
  Wagner \n\nKontakt: Mirjam Wagner\, 076 477 10 81\n\nWeitere Infos:
  https://www.kirche-waedenswil.ch/veranstaltung/40592
SUMMARY:orgel.fenster - Orgelmusik zur Marktzeit "Vater unser im
  Himmelreich"
PRIORITY:5
X-MICROSOFT-CDO-IMPORTANCE:1
CLASS:PUBLIC
END:VEVENT
END:VCALENDAR
