BEGIN:VCALENDAR
PRODID:-//kirchenweb.ch gmbh//veranstaltungsausgabe v2.0//DE
VERSION:2.0
METHOD:PUBLISH
BEGIN:VEVENT
DTSTART:20251123T153000Z
DTEND:20251123T190000Z
LOCATION:Kirche\, Schönenbergstr. 9\, 8820 Wädenswil
TRANSP:OPAQUE
SEQUENCE:0
UID:40543-veranstaltung@kirche-waedenswil.ch
DTSTAMP:20251114T125528Z
DESCRIPTION:Kontakt: Magdalena Kellerhals\, Präsidentin\n\nWeitere Infos:
  https://www.kirche-waedenswil.ch/veranstaltung/40543
SUMMARY:Gastkonzert Kirchen- und Oratorienchor Wädenswil
PRIORITY:5
X-MICROSOFT-CDO-IMPORTANCE:1
CLASS:PUBLIC
END:VEVENT
END:VCALENDAR
