BEGIN:VCALENDAR
PRODID:-//kirchenweb.ch gmbh//veranstaltungsausgabe v2.0//DE
VERSION:2.0
METHOD:PUBLISH
BEGIN:VEVENT
DTSTART:20240918T173000Z
DTEND:20240918T190000Z
LOCATION:Kirchgemeindehaus Rosenmatt\, Gessnerweg 5\, 8820 Wädenswil
TRANSP:OPAQUE
SEQUENCE:0
UID:40458-veranstaltung@kirche-waedenswil.ch
DTSTAMP:20241209T222700Z
DESCRIPTION:Biblisches und Philosophisches rund um Sterben\, Tod und
  Danach.\n\nEin Abend\, um die eigene Tradition etwas genauer
  kennenzulernen und zu verstehen. Und diese Tradition ist durchaus
  vielfältig. Der Verstand soll mitreisen! \nMit biblischen Bezügen\,
  Gedanken- und Gesprächsanstössen. \n\n\nKontakt: Pfr. Frank Lehmann\,
  044 780 33 55\n\nWeitere Infos:
  https://www.kirche-waedenswil.ch/veranstaltung/40458
SUMMARY:Kaum zu glauben!? Die letzten Dinge.
PRIORITY:5
X-MICROSOFT-CDO-IMPORTANCE:1
CLASS:PUBLIC
END:VEVENT
END:VCALENDAR
