BEGIN:VCALENDAR
PRODID:-//kirchenweb.ch gmbh//veranstaltungsausgabe v2.0//DE
VERSION:2.0
METHOD:PUBLISH
BEGIN:VEVENT
DTSTART:20251214T101500Z
DTEND:20251214T111500Z
LOCATION:Kirchenpavillon Au\, General-Werdmüller-Strasse 20\, 8804 Au
TRANSP:OPAQUE
SEQUENCE:0
UID:40447-veranstaltung@kirche-waedenswil.ch
DTSTAMP:20251213T155304Z
DESCRIPTION:Und du\, Betlehem\, Land Juda\,\nbist keineswegs die geringste
  unter den Fürstenstädten Judas;\ndenn aus dir wird ein Fürst
  hervorgehen\,\nder mein Volk Israel weiden wird.\nMt 2\,6\n\nWas kann aus
  einer kleinen Stadt Gutes kommen?\nWas ist das Gute\, das aus dieser
  kleinen Stadt kommt?\nWas gibt es unserer kleinen Stadt? Wie wirkt es im
  Zusammenleben? \n\n\n\n\n\n\nDer Betrag kommt derjenigen Organisation
  zugute\, welche im Gottesdienst erwähnt wurde. Spenden während der
  Woche werden dem Empfänger des letzten Gottesdienstes zugewiesen.\n\nEs
  ist nicht ersichtlich\, von wem die Spende überwiesen wurde.\n\nKontakt:
  Pfr. Christian Scharpf\, 078 622 00 28\n\nWeitere Infos:
  https://www.kirche-waedenswil.ch/veranstaltung/40447
SUMMARY:Gottesdienst - Au - 3. Advent
PRIORITY:5
X-MICROSOFT-CDO-IMPORTANCE:1
CLASS:PUBLIC
END:VEVENT
END:VCALENDAR
