BEGIN:VCALENDAR
PRODID:-//kirchenweb.ch gmbh//veranstaltungsausgabe v2.0//DE
VERSION:2.0
METHOD:PUBLISH
BEGIN:VEVENT
DTSTART:20240918T133000Z
DTEND:20240918T141500Z
LOCATION:Kirche\, Schönenbergstr. 9\, 8820 Wädenswil
TRANSP:OPAQUE
SEQUENCE:0
UID:40304-veranstaltung@kirche-waedenswil.ch
DTSTAMP:20240917T110031Z
DESCRIPTION:Warst du schon mal mit dem Schiff unterwegs? Vielleicht auf
  dem Zürichsee? Dann hast du vielleicht gespürt\, wie sich das Schiff
  ein wenig hin und her bewegt\, wenn grosse Wellen an die Seite schlagen.
  Das finden die einen lustig oder sogar schön. Zum Glück haben die
  wenigsten von uns schon erlebt\, wie es sich anfühlt\, auf dem Schiff zu
  sein\, wenn gleichzeitig ein Sturm tobt. Das ist gar nicht mehr toll. Das
  ist richtig schlimm! \nJesus ist mit seinen Freunden auf dem See\, als
  genau das passiert: ein schlimmer Sturm zieht auf und wirft das Schiff
  von einer auf die andere Seite. Die Freunde haben Angst\, klar! Und
  Jesus? Was macht der? Stell dir vor: Er schläft.\nWenn du hören –
  oder noch besser gleich selbst erleben willst\, wie die Geschichte
  weitergeht\, dann komm\, und feiere mit!\n\nFiire mit de Chliine\n- eine
  Feier für die Kleinen bis zu fünf Jahren mit ihren Müttern\, Vätern\,
  Gottis\, Göttis\, Grosseltern\, Bezugspersonen. Ältere Kinder sind auch
  herzlich willkommen!\n- eine spannende Geschichte\n- singen\, beten\,
  feiern\, spielen\, zusammen sein\n- eine gute Möglichkeit\, neue
  Bekanntschaften zu schliessen\n\nTeam\nEine Gruppe von Frauen mit guten
  Ideen\, viel Herzblut und Kreativität: Anita Krauss-Breitling\, Andrea
  Kurzen\, Sabine Grätzer und Pfrn. Salome Probst\n\n\nKontakt: Pfrn.
  Salome Probst\, 079 324 97 79\n\nWeitere Infos:
  https://www.kirche-waedenswil.ch/veranstaltung/40304
SUMMARY:Fiire mit de Chliine - De Jesus und de Schturm
PRIORITY:5
X-MICROSOFT-CDO-IMPORTANCE:1
CLASS:PUBLIC
END:VEVENT
END:VCALENDAR
