BEGIN:VCALENDAR
PRODID:-//kirchenweb.ch gmbh//veranstaltungsausgabe v2.0//DE
VERSION:2.0
METHOD:PUBLISH
BEGIN:VEVENT
DTSTART:20240828T133000Z
DTEND:20240828T141500Z
LOCATION:Kirche\, Schönenbergstr. 9\, 8820 Wädenswil
TRANSP:OPAQUE
SEQUENCE:0
UID:40303-veranstaltung@kirche-waedenswil.ch
DTSTAMP:20240521T085550Z
DESCRIPTION:Das isch mir soooo wichtig!\nDas ist Mister Brown. Dem
  geht’s grad gar nicht gut. Mister Brown hat nämlich etwas verloren.
  Etwas\, das ihm ganz\, ganz wichtig ist. \nHast du auch etwas\, das dir
  unglaublich wichtig ist? Ein Plüschtier\, ein Buch\, den Nuggi? Und hast
  du es vielleicht auch schon mal verloren? Hui\, dann weisst du wohl\, wie
  sich das anfühlt\, wenn man es aufs Mal nicht mehr hat. \nHoffentlich\,
  hoffentlich\, durftest du es dann auch wieder finden. Das wünschen wir
  dir sehr!\nWenn du hören willst\, wie die Geschichte von Mister Brown
  weitergeht\, dann komm\, und feiere mit!\n\nFiire mit de Chliine\n- eine
  Feier für die Kleinen bis zu fünf Jahren mit ihren Müttern\, Vätern\,
  Gottis\, Göttis\, Grosseltern\, Bezugspersonen. Ältere Kinder sind
  natürlich auch herzlich willkommen!\n- eine spannende Geschichte\n-
  singen\, beten\, feiern\, spielen\, zusammen sein\n- eine gute
  Möglichkeit\, neue Bekanntschaften zu schliessen\n\nTeam\nEine Gruppe
  von Frauen mit guten Ideen\, viel Herzblut und Kreativität: Anita
  Krauss-Breitling\, Andrea Kurzen\, Sabine Grätzer und Pfrn. Salome
  Probst\n\n\nKontakt: Pfrn. Salome Probst\, 079 324 97 79\n\nWeitere
  Infos: https://www.kirche-waedenswil.ch/veranstaltung/40303
SUMMARY:Fiire mit de Chliine
PRIORITY:5
X-MICROSOFT-CDO-IMPORTANCE:1
CLASS:PUBLIC
END:VEVENT
END:VCALENDAR
