BEGIN:VCALENDAR
PRODID:-//kirchenweb.ch gmbh//veranstaltungsausgabe v2.0//DE
VERSION:2.0
METHOD:PUBLISH
BEGIN:VEVENT
DTSTART:20240808T073000Z
DTEND:20240808T080000Z
LOCATION:Rosenhofpark\, Gessnerweg 5\, 8820 Wädenswil
TRANSP:OPAQUE
SEQUENCE:0
UID:40126-veranstaltung@kirche-waedenswil.ch
DTSTAMP:20240716T121308Z
DESCRIPTION:Genussturnen 60+ für Frauen und Männer\,  mit Claudia
  Volkart\n\nDas Genussturnen ist ein Sommer-Angebot der reformierten
  Kirche Wädenswil\nTag: Do-Morgen: 8. August \nZeit: 9.30 – 10.00 Uhr\,
  mit anschliessendem Kafi im Rosemätteli\nOrt: Rosenhofpark: bei schönem
  Wetter\nOrt: Balkonzimmer\, 2. OG im Kirchgemeindehaus\, bei schlechtem
  Wetter\nBekleidung: Bequeme Kleider\, Schuhe oder Sandalen.\n\nDas Ziel
  des Genussturnen ist sich mit Freude zu bewegen\, damit wir gelenkig
  bleiben. Dazu gehört gutes Atmen\, spannen des Beckenbodens\, etwas
  Gleichgewichtstraining mit abschliessendem Hirnjogging\, damit ganz
  sicher die Lachmuskeln aktiviert werden.\n\nMachen Sie mit? \n\n\n
 \nKontakt: Petra Fischer\, 044 783 00 52\n\nWeitere Infos:
  https://www.kirche-waedenswil.ch/veranstaltung/40126
SUMMARY:Genussturnen 60+
PRIORITY:5
X-MICROSOFT-CDO-IMPORTANCE:1
CLASS:PUBLIC
END:VEVENT
END:VCALENDAR
