BEGIN:VCALENDAR
PRODID:-//kirchenweb.ch gmbh//veranstaltungsausgabe v2.0//DE
VERSION:2.0
METHOD:PUBLISH
BEGIN:VEVENT
DTSTART:20240924T113000Z
DTEND:20240924T153000Z
LOCATION:Kirchgemeindehaus Rosenmatt\, Gessnerweg 5\, 8820 Wädenswil
TRANSP:OPAQUE
SEQUENCE:0
UID:39990-veranstaltung@kirche-waedenswil.ch
DTSTAMP:20240904T103948Z
DESCRIPTION:In diesem Workshop lernen Sie die Qualitäten und
  Eigenschaften verschiedener Wildfrüchte kennen und welche
  Verarbeitungs-möglichkeiten es gibt für die Haltbarmachung. \nDies mit
  dem Ziel\, auch im Herbst und Winter nicht auf sommerliche Genüsse
  verzichten zu müssen.\n \nAnzahl Teilnehmende: Begrenzt\nKostenbeitrag:
  Fr. 20.-\n\nMachen Sie mit? Wir freuen uns auf Sie!\n\n\nKontakt: Petra
  Fischer\, 044 783 00 52\n\nWeitere Infos:
  https://www.kirche-waedenswil.ch/veranstaltung/39990
SUMMARY:Workshop Einmachen
PRIORITY:5
X-MICROSOFT-CDO-IMPORTANCE:1
CLASS:PUBLIC
END:VEVENT
END:VCALENDAR
