BEGIN:VCALENDAR
PRODID:-//kirchenweb.ch gmbh//veranstaltungsausgabe v2.0//DE
VERSION:2.0
METHOD:PUBLISH
BEGIN:VEVENT
DTSTART:20240823T170000Z
DTEND:20240823T183000Z
LOCATION:Kirche\, Schönenbergstr. 9\, 8820 Wädenswil
TRANSP:OPAQUE
SEQUENCE:0
UID:39782-veranstaltung@kirche-waedenswil.ch
DTSTAMP:20240731T133634Z
DESCRIPTION:Chilbimusig Wättischwil\n\nMusikverein Harmonie Wädenswil
  mit Pepe Lienhard\n\nVon - für - und mit Ursula Hauser \n\nKontakt:
  sigrist@kirche-waedenswil.ch\n\nWeitere Infos:
  https://www.kirche-waedenswil.ch/veranstaltung/39782
SUMMARY:Gastkonzert Chilbimusig\, Harmonie Wädenswil mit Pepe Lienhard
PRIORITY:5
X-MICROSOFT-CDO-IMPORTANCE:1
CLASS:PUBLIC
END:VEVENT
END:VCALENDAR
