BEGIN:VCALENDAR
PRODID:-//kirchenweb.ch gmbh//veranstaltungsausgabe v2.0//DE
VERSION:2.0
METHOD:PUBLISH
BEGIN:VEVENT
DTSTART:20240821T113000Z
DTEND:20240821T140000Z
LOCATION:Kirchgemeindehaus Rosenmatt\, Gessnerweg 5\, 8820 Wädenswil
TRANSP:OPAQUE
SEQUENCE:0
UID:39717-veranstaltung@kirche-waedenswil.ch
DTSTAMP:20231124T075537Z
DESCRIPTION:Der Mal-Treff ist offen für ALLE\, die gerne Malen oder die
  es ausprobieren möchten. \n\nUnser Mal-Ort hat 10 Plätze\, ist ein
  wert- und deutungsfreier Begegnungsort zum gemeinsamen Malen\, Gestalten
  und Zusammensein. \n\nDie Teilnahme setzt keine besondere Begabung
  voraus. Im Gegenteil\, die Gegenwart der anderen Mal-Gefährten lädt ein
  zum Ausprobieren in guter Gemeinschaft. \n\nPunktuell findet eine
  Einführung zu bestimmten Mal-Techniken statt. Ansonsten besteht die
  Möglichkeit\, die anwesenden Mal-Gefährten für praktische Tipps
  anzusprechen oder sich in den vorhandenen Fachbüchern kundig zu machen. 
 \n\nMaterial: Ich bitte um das Mitbringen des eigenen Mal-Materials. Zum
  Ausprobieren hat es vor Ort eine kleine Papier-\, Farb- und
  Pinselauswahl. \n\nMal-Ort: UG-Kreativraum im Kirchgemeindehaus
  Rosenmatt\, Eingang beim Jugendkeller.\n\nDie Teilnahme ist kostenlos.\n
 \n\n\nKontakt: Petra Fischer\, 044 783 00 52\n\nWeitere Infos:
  https://www.kirche-waedenswil.ch/veranstaltung/39717
SUMMARY:Mal-Treff
PRIORITY:5
X-MICROSOFT-CDO-IMPORTANCE:1
CLASS:PUBLIC
END:VEVENT
END:VCALENDAR
