BEGIN:VCALENDAR
PRODID:-//kirchenweb.ch gmbh//veranstaltungsausgabe v2.0//DE
VERSION:2.0
METHOD:PUBLISH
BEGIN:VEVENT
DTSTART:20240506T170000Z
DTEND:20240506T180000Z
LOCATION:Kirche\, Schönenbergstr. 9\, 8820 Wädenswil
TRANSP:OPAQUE
SEQUENCE:0
UID:39635-veranstaltung@kirche-waedenswil.ch
DTSTAMP:20240504T102243Z
DESCRIPTION:Körpereinstimmung - Sitzen in der Stille - im Kreis -
  meditatives Gehen - Gebet und Segen.\n\nZur Mitte kommen - den Tag ziehen
  lassen - zusammen schweigen - Geduld haben - das innere Licht empfangen.
 \n\nLeitung Pfr. M. Stauffer\n\nKontakt: Pfr. Matthias Stauffer\, 076 318
  48 96\n\nWeitere Infos:
  https://www.kirche-waedenswil.ch/veranstaltung/39635
SUMMARY:Meditation am Montag in der Kirche
PRIORITY:5
X-MICROSOFT-CDO-IMPORTANCE:1
CLASS:PUBLIC
END:VEVENT
END:VCALENDAR
