BEGIN:VCALENDAR
PRODID:-//kirchenweb.ch gmbh//veranstaltungsausgabe v2.0//DE
VERSION:2.0
METHOD:PUBLISH
BEGIN:VEVENT
DTSTART:20240506T141500Z
DTEND:20240506T153000Z
LOCATION:Kirchgemeindehaus Rosenmatt\, Gessnerweg 5\, 8820 Wädenswil
TRANSP:OPAQUE
SEQUENCE:0
UID:39581-veranstaltung@kirche-waedenswil.ch
DTSTAMP:20231110T150718Z
DESCRIPTION:Wir treffen uns einmal im Monat montags von 16.15 Uhr-17.30
  Uhr.\nAb 15.00 Uhr bieten wir eine Auffangzeit mit freiem Spiel und einem
  Zvieri an.\nAb 16.15 Uhr startet dann das reguläre Kolibri mit einer
  spannenden Geschichte.\n\nZum Kolibri Mäntigsclub sind alle Kinder
  zwischen dem Chindsgi und der 3. Klasse eingeladen.\nWir freuen uns auf
  das Singen\, Lachen\, Spielen\, Basteln und auf spannende Geschichten.
 \nDabei kommen auch Spiel & Spass nicht zu kurz.\n\nDer Einstieg in die
  Gruppe ist jederzeit möglich!\n\nKontakt:
  simone.hauser@kirche-waedenswil.ch\n\nWeitere Infos:
  https://www.kirche-waedenswil.ch/veranstaltung/39581
SUMMARY:Kolibri Mäntigsclub
PRIORITY:5
X-MICROSOFT-CDO-IMPORTANCE:1
CLASS:PUBLIC
END:VEVENT
END:VCALENDAR
