BEGIN:VCALENDAR
PRODID:-//kirchenweb.ch gmbh//veranstaltungsausgabe v2.0//DE
VERSION:2.0
METHOD:PUBLISH
BEGIN:VEVENT
DTSTART:20240430T130000Z
DTEND:20240430T143000Z
LOCATION:Alterszentrum Frohmatt\, Bürgerheimstr. 8-12\, 8820 Wädenswil
TRANSP:OPAQUE
SEQUENCE:0
UID:39501-veranstaltung@kirche-waedenswil.ch
DTSTAMP:20231102T150059Z
DESCRIPTION:Kontakt: Pfr. Matthias Stauffer\, 076 318 48 96\n\nWeitere
  Infos: https://www.kirche-waedenswil.ch/veranstaltung/39501
SUMMARY:Andachten für Menschen mit Demenz
PRIORITY:5
X-MICROSOFT-CDO-IMPORTANCE:1
CLASS:PUBLIC
END:VEVENT
END:VCALENDAR
