BEGIN:VCALENDAR
PRODID:-//kirchenweb.ch gmbh//veranstaltungsausgabe v2.0//DE
VERSION:2.0
METHOD:PUBLISH
BEGIN:VEVENT
DTSTART:20240814T173000Z
DTEND:20240814T183000Z
LOCATION:Alterssiedlung Bin Rääbe\, Schlossbergstr. 15\, 8820 Wädenswil
TRANSP:OPAQUE
SEQUENCE:0
UID:39429-veranstaltung@kirche-waedenswil.ch
DTSTAMP:20231031T133211Z
DESCRIPTION:Gottesdienst im Alterszentrum Bin Rääbe\n\n\n\n\nKontakt:
  Pfr. Christian Scharpf\, 078 622 00 28\n\nWeitere Infos:
  https://www.kirche-waedenswil.ch/veranstaltung/39429
SUMMARY:Gottesdienst Bin Rääbe
PRIORITY:5
X-MICROSOFT-CDO-IMPORTANCE:1
CLASS:PUBLIC
END:VEVENT
END:VCALENDAR
