BEGIN:VCALENDAR
PRODID:-//kirchenweb.ch gmbh//veranstaltungsausgabe v2.0//DE
VERSION:2.0
METHOD:PUBLISH
BEGIN:VEVENT
DTSTART:20240814T163000Z
DTEND:20240814T173000Z
LOCATION:Alterssiedlung Tobelrai\, Speerstr. 105\, 8820 Wädenswil
TRANSP:OPAQUE
SEQUENCE:0
UID:39417-veranstaltung@kirche-waedenswil.ch
DTSTAMP:20231031T133156Z
DESCRIPTION:Gottesdienst im Alterszentrum Tobelrai\n\n\n\n\nKontakt: Pfrn.
  Salome Probst\, 079 324 97 79\n\nWeitere Infos:
  https://www.kirche-waedenswil.ch/veranstaltung/39417
SUMMARY:Gottesdienst Tobelrai
PRIORITY:5
X-MICROSOFT-CDO-IMPORTANCE:1
CLASS:PUBLIC
END:VEVENT
END:VCALENDAR
