BEGIN:VCALENDAR
PRODID:-//kirchenweb.ch gmbh//veranstaltungsausgabe v2.0//DE
VERSION:2.0
METHOD:PUBLISH
BEGIN:VEVENT
DTSTART:20240430T070000Z
DTEND:20240430T090000Z
LOCATION:Kirchgemeindehaus Rosenmatt\, Gessnerweg 5\, 8820 Wädenswil
TRANSP:OPAQUE
SEQUENCE:0
UID:39407-veranstaltung@kirche-waedenswil.ch
DTSTAMP:20231031T125744Z
DESCRIPTION:Stricktreff\n\nKontakt: Margrith Jost\, 044 783 00 54\n
 \nWeitere Infos: https://www.kirche-waedenswil.ch/veranstaltung/39407
SUMMARY:Lismete
PRIORITY:5
X-MICROSOFT-CDO-IMPORTANCE:1
CLASS:PUBLIC
END:VEVENT
END:VCALENDAR
