BEGIN:VCALENDAR
PRODID:-//kirchenweb.ch gmbh//veranstaltungsausgabe v2.0//DE
VERSION:2.0
METHOD:PUBLISH
BEGIN:VEVENT
DTSTART:20240923T170000Z
DTEND:20240923T183000Z
LOCATION:Kirchgemeindehaus Rosenmatt\, Gessnerweg 5\, 8820 Wädenswil
TRANSP:OPAQUE
SEQUENCE:0
UID:39345-veranstaltung@kirche-waedenswil.ch
DTSTAMP:20231027T090550Z
DESCRIPTION:Kontakt: Simone Hauser\, 044 783 00 55\n\nWeitere Infos:
  https://www.kirche-waedenswil.ch/veranstaltung/39345
SUMMARY:Streetdance - "roundabout"
PRIORITY:5
X-MICROSOFT-CDO-IMPORTANCE:1
CLASS:PUBLIC
END:VEVENT
END:VCALENDAR
