BEGIN:VCALENDAR
PRODID:-//kirchenweb.ch gmbh//veranstaltungsausgabe v2.0//DE
VERSION:2.0
METHOD:PUBLISH
BEGIN:VEVENT
DTSTART:20240505T103000Z
DTEND:20240505T114000Z
LOCATION:Kirche\, Schönenbergstr. 9\, 8820 Wädenswil
TRANSP:OPAQUE
SEQUENCE:0
UID:38451-veranstaltung@kirche-waedenswil.ch
DTSTAMP:20240429T084647Z
DESCRIPTION:Mit Taufe von Milena Fäh.\n\nKontakt: Pfr. Frank Lehmann\,
  044 780 33 55\n\nWeitere Infos:
  https://www.kirche-waedenswil.ch/veranstaltung/38451
SUMMARY:Tauffeier nach dem Gottesdienst
PRIORITY:5
X-MICROSOFT-CDO-IMPORTANCE:1
CLASS:PUBLIC
END:VEVENT
END:VCALENDAR
