BEGIN:VCALENDAR
PRODID:-//kirchenweb.ch gmbh//veranstaltungsausgabe v2.0//DE
VERSION:2.0
METHOD:PUBLISH
BEGIN:VEVENT
DTSTART:20240818T083000Z
DTEND:20240818T091500Z
LOCATION:Kirchenpavillon Au\, General-Werdmüller-Strasse 20\, 8804 Au
TRANSP:OPAQUE
SEQUENCE:0
UID:38411-veranstaltung@kirche-waedenswil.ch
DTSTAMP:20230921T114714Z
DESCRIPTION:Vor dem Gottesdienst sind Sie herzlich zum Kaffee eingeladen.
 \n\nKontakt: Gabriela Monigatti\, 044 781 40 12\n\nWeitere Infos:
  https://www.kirche-waedenswil.ch/veranstaltung/38411
SUMMARY:Sunntigskafi
PRIORITY:5
X-MICROSOFT-CDO-IMPORTANCE:1
CLASS:PUBLIC
END:VEVENT
END:VCALENDAR
