BEGIN:VCALENDAR
PRODID:-//kirchenweb.ch gmbh//veranstaltungsausgabe v2.0//DE
VERSION:2.0
METHOD:PUBLISH
BEGIN:VEVENT
DTSTART:20240922T090000Z
DTEND:20240922T100000Z
LOCATION:Kirchgemeindehaus Rosenmatt\, Gessnerweg 5\, 8820 Wädenswil
TRANSP:OPAQUE
SEQUENCE:0
UID:38377-veranstaltung@kirche-waedenswil.ch
DTSTAMP:20230920T145833Z
DESCRIPTION:Anschliessend an den Erntedank-Gottesdienst sind Sie herzlich
  zum Apéro vor der Kirche eingeladen. Bei ungünstigem Wetter findet der
  Apéro im Kirchgemeindehaus statt.\n\nKontakt: Esther Mantel 079 660 51
  68\n\nWeitere Infos: https://www.kirche-waedenswil.ch/veranstaltung/38377
SUMMARY:Apéro nach dem Erntedank-Gottesdienst
PRIORITY:5
X-MICROSOFT-CDO-IMPORTANCE:1
CLASS:PUBLIC
END:VEVENT
END:VCALENDAR
