BEGIN:VCALENDAR
PRODID:-//kirchenweb.ch gmbh//veranstaltungsausgabe v2.0//DE
VERSION:2.0
METHOD:PUBLISH
BEGIN:VEVENT
DTSTART:20240428T160000Z
DTEND:20240428T170000Z
LOCATION:Kirchgemeindehaus Rosenmatt\, Gessnerweg 5\, 8820 Wädenswil
TRANSP:OPAQUE
SEQUENCE:0
UID:38336-veranstaltung@kirche-waedenswil.ch
DTSTAMP:20230920T135642Z
DESCRIPTION:Nach dem Jazz-Gottesdienst sind Sie herzlich zum Apéro vor
  der Kirche eingeladen. \nBei ungünstigem Wetter findet der Apéro in der
  Kirche statt.\n\nKontakt: Esther Mantel\n\nWeitere Infos:
  https://www.kirche-waedenswil.ch/veranstaltung/38336
SUMMARY:Apéro nach dem Jazz-Gottesdienst
PRIORITY:5
X-MICROSOFT-CDO-IMPORTANCE:1
CLASS:PUBLIC
END:VEVENT
END:VCALENDAR
