BEGIN:VCALENDAR
PRODID:-//kirchenweb.ch gmbh//veranstaltungsausgabe v2.0//DE
VERSION:2.0
METHOD:PUBLISH
BEGIN:VEVENT
DTSTART:20240804T090000Z
DTEND:20240804T100000Z
LOCATION:Kirche\, Schönenbergstr. 9\, 8820 Wädenswil
TRANSP:OPAQUE
SEQUENCE:0
UID:38328-veranstaltung@kirche-waedenswil.ch
DTSTAMP:20230920T140020Z
DESCRIPTION:Bei trockenem Wetter findet nach dem Gottesdienst ein
  Kafiträff vor der Kirche statt. Sie sind herzlich dazu eingeladen.\n
 \nKontakt: Esther Mantel\n\nWeitere Infos:
  https://www.kirche-waedenswil.ch/veranstaltung/38328
SUMMARY:Kafiträff an der WunderBar
PRIORITY:5
X-MICROSOFT-CDO-IMPORTANCE:1
CLASS:PUBLIC
END:VEVENT
END:VCALENDAR
