BEGIN:VCALENDAR
PRODID:-//kirchenweb.ch gmbh//veranstaltungsausgabe v2.0//DE
VERSION:2.0
METHOD:PUBLISH
BEGIN:VEVENT
DTSTART:20240808T080000Z
DTEND:20240808T084500Z
LOCATION:Alterszentrum Frohmatt\, Bürgerheimstr. 8-12\, 8820 Wädenswil
TRANSP:OPAQUE
SEQUENCE:0
UID:38192-veranstaltung@kirche-waedenswil.ch
DTSTAMP:20230927T063815Z
DESCRIPTION:Gottesdienst mit Lydia Bond\n\nKontakt: Pfr. Matthias
  Stauffer\, 076 318 48 96\n\nWeitere Infos:
  https://www.kirche-waedenswil.ch/veranstaltung/38192
SUMMARY:Gottesdienst Frohmatt
PRIORITY:5
X-MICROSOFT-CDO-IMPORTANCE:1
CLASS:PUBLIC
END:VEVENT
END:VCALENDAR
