BEGIN:VCALENDAR
PRODID:-//kirchenweb.ch gmbh//veranstaltungsausgabe v2.0//DE
VERSION:2.0
METHOD:PUBLISH
BEGIN:VEVENT
DTSTART:20240807T074500Z
DTEND:20240807T082000Z
LOCATION:Wohnzentrum Fuhr\, Fuhrstrasse 42\, 8820 Wädenswil
TRANSP:OPAQUE
SEQUENCE:0
UID:38173-veranstaltung@kirche-waedenswil.ch
DTSTAMP:20240730T060400Z
DESCRIPTION:Gottesdienst für die Bewohnerschaft des Wohnzentrums Fuhr mit
  Predigt und Gesang (Piano).\n\nKontakt: Pfr. Matthias Stauffer\, 076 318
  48 96\n\nWeitere Infos:
  https://www.kirche-waedenswil.ch/veranstaltung/38173
SUMMARY:Gottesdienst in der Fuhr
PRIORITY:5
X-MICROSOFT-CDO-IMPORTANCE:1
CLASS:PUBLIC
END:VEVENT
END:VCALENDAR
