BEGIN:VCALENDAR
PRODID:-//kirchenweb.ch gmbh//veranstaltungsausgabe v2.0//DE
VERSION:2.0
METHOD:PUBLISH
BEGIN:VEVENT
DTSTART:20240831T083000Z
DTEND:20240831T093000Z
LOCATION:Kirche\, Schönenbergstr. 9\, 8820 Wädenswil
TRANSP:OPAQUE
SEQUENCE:0
UID:38154-veranstaltung@kirche-waedenswil.ch
DTSTAMP:20240821T150311Z
DESCRIPTION:Heute fliegen unsere Taufvögel aus ihrem Nest aus. Und gehen
  mit denjenigen Kindern nach Hause\, die im vergangenen Jahr getauft
  wurden.\nAlle Taufkinder und ihre Eltern\, Grosseltern\, Geschwister sind
  herzlich zu dieser ca. halbstündigen Feier in der Kirche eingeladen. \n
 \nKontakt: Pfrn. Salome Probst\, 079 324 97 79\n\nWeitere Infos:
  https://www.kirche-waedenswil.ch/veranstaltung/38154
SUMMARY:Tauferinnerungsfeier
PRIORITY:5
X-MICROSOFT-CDO-IMPORTANCE:1
CLASS:PUBLIC
END:VEVENT
END:VCALENDAR
