BEGIN:VCALENDAR
PRODID:-//kirchenweb.ch gmbh//veranstaltungsausgabe v2.0//DE
VERSION:2.0
METHOD:PUBLISH
BEGIN:VEVENT
DTSTART:20240825T090000Z
DTEND:20240825T110000Z
LOCATION:Kirchgemeindehaus Rosenmatt\, Gessnerweg 5\, 8820 Wädenswil
TRANSP:OPAQUE
SEQUENCE:0
UID:38053-veranstaltung@kirche-waedenswil.ch
DTSTAMP:20240815T142907Z
DESCRIPTION:Nach dem Gottesdienst sind Sie ganz herzlich zum Apéro im
  Kirchgemeindehaus eingeladen.\n\n\nKontakt: Esther Mantel\n\nWeitere
  Infos: https://www.kirche-waedenswil.ch/veranstaltung/38053
SUMMARY:Apero nach Chilbi-Ehejubiläums-Gottesdienst
PRIORITY:5
X-MICROSOFT-CDO-IMPORTANCE:1
CLASS:PUBLIC
END:VEVENT
END:VCALENDAR
